BEGIN:VCALENDAR
VERSION:2.0
PRODID:-//Kreativ in Bienenbüttel - ECPv6.15.11//NONSGML v1.0//EN
CALSCALE:GREGORIAN
METHOD:PUBLISH
X-WR-CALNAME:Kreativ in Bienenbüttel
X-ORIGINAL-URL:https://www.kreativ-in-bienenbuettel.de
X-WR-CALDESC:Veranstaltungen für Kreativ in Bienenbüttel
REFRESH-INTERVAL;VALUE=DURATION:PT1H
X-Robots-Tag:noindex
X-PUBLISHED-TTL:PT1H
BEGIN:VTIMEZONE
TZID:Europe/Berlin
BEGIN:DAYLIGHT
TZOFFSETFROM:+0100
TZOFFSETTO:+0200
TZNAME:CEST
DTSTART:20200329T010000
END:DAYLIGHT
BEGIN:STANDARD
TZOFFSETFROM:+0200
TZOFFSETTO:+0100
TZNAME:CET
DTSTART:20201025T010000
END:STANDARD
BEGIN:DAYLIGHT
TZOFFSETFROM:+0100
TZOFFSETTO:+0200
TZNAME:CEST
DTSTART:20210328T010000
END:DAYLIGHT
BEGIN:STANDARD
TZOFFSETFROM:+0200
TZOFFSETTO:+0100
TZNAME:CET
DTSTART:20211031T010000
END:STANDARD
BEGIN:DAYLIGHT
TZOFFSETFROM:+0100
TZOFFSETTO:+0200
TZNAME:CEST
DTSTART:20220327T010000
END:DAYLIGHT
BEGIN:STANDARD
TZOFFSETFROM:+0200
TZOFFSETTO:+0100
TZNAME:CET
DTSTART:20221030T010000
END:STANDARD
END:VTIMEZONE
BEGIN:VEVENT
DTSTART;TZID=Europe/Berlin:20210126T190000
DTEND;TZID=Europe/Berlin:20210126T220000
DTSTAMP:20260423T152331
CREATED:20210110T082553Z
LAST-MODIFIED:20210110T083704Z
UID:4236-1611687600-1611698400@www.kreativ-in-bienenbuettel.de
SUMMARY:Kreativ-Workshop DIGITAL
DESCRIPTION:Veranstaltungsnummer 2021-01\n Gemeinsam kreativ sein\, sich eine Auszeit vom Alltag nehmen und das auf einfache Weise!\nWir basteln schöne Projekte mit den Produkten von Stampin‘ up! – einfach weil sie eine tolle Qualität haben. Du bekommst ein Materialpaket zugeschickt und einen Zugangslink zur Video-Plattform „Zoom“.\n  \nThema\n Wir werden mit den Produkten aus dem Minikatalog Frühjahr/Sommer 2021 und der Sale-a-Bration arbeiten. Es werden 3 Projekte gefertigt (Willkommensgruß + 2 Kartenformen) – das Materialpaket bekommst Du von mir inkl. eines Zugangs für das Online-Meeting. Die Workshop-Projekte sind für Anfänger wie für Fortschritte gleichermaßen geeignet. Es geht bei dem Workshop um eine kreative Auszeit und das Kennenlernen der Produkte aus dem Frühjahr-Sommerkatalog 2021.\n Du hast bei diesem Workshop die Wahl zwischen 2 Materialpaketen: \nKosten (inkl. Porto innerhalb DE / außerhalb DE entsprechend höher)\n  • 15\,- € (Material für die 3 Projekte / Designerpapierauswahl per Zufall)\n  • 28\,50 € (Material für 3 Projekte inkl. 1 Komplettpaket (12 Bögen) Designerpapier nach Wahl.\n Die Farben innerhalb der 12 Bögen sind aufeinander abgestimmt und miteinander kombinierbar. Damit hast Du die Möglichkeit\, weitere Projekte mit dem schönen Papier zu fertigen.\n  \nWeitere Infos / weitere Materialien etc. auf dem Blog – klick hier \nMelde Dich gerne an!  \nIch freue mich auf schöne kreative Stunden mit Dir!
URL:https://www.kreativ-in-bienenbuettel.de/veranstaltung/kreativ-workshop-digital/
LOCATION:Digital
END:VEVENT
END:VCALENDAR